BEGIN:VCALENDAR
VERSION:2.0
METHOD:PUBLISH
BEGIN:VEVENT
DTSTART:20250506T000000
DTEND:20251026T000000
LOCATION:   
TRANSP: OPAQUE
SEQUENCE:0
UID:
DTSTAMP:20260419T135832Z
SUMMARY:RowerON 2025
DESCRIPTION:Aktualizacja 20.05.Zapisy zakończone!!! Mamy 1400 uczestników. Dziękujemy i zapraszamy do aktywnej jazdy!Od 27 maja do 7 czerwca będzie odbierać pakiety startowe płatne i bezpłatne (oprócz......
URL:https://app.evenea.pl/event/roweron2025/
PRIORITY:1
CLASS:PUBLIC
END:VEVENT
END:VCALENDAR
