BEGIN:VCALENDAR
VERSION:2.0
METHOD:PUBLISH
BEGIN:VEVENT
DTSTART:20220630T173000
DTEND:20220630T223000
LOCATION:Starbucks przy Olivii Cdentre al. Grunwaldzka 472C  Gdańska
TRANSP: OPAQUE
SEQUENCE:0
UID:
DTSTAMP:20260423T223449Z
SUMMARY:Rowerowa wycieczka po pracy - Jezioro Otomińskie | 30 czerwca
DESCRIPTION:Olivia Business Centre i Grupa Rekreacyjna 3miasto zapraszają wszystkich amatorów dwóch kółek na rowerowe wycieczki turystyczne, połączone z wypoczynkiem na łonie przyrody. Dokąd......
URL:https://app.evenea.pl/event/rowerowy-czerwiec-30-06/
PRIORITY:1
CLASS:PUBLIC
END:VEVENT
END:VCALENDAR
