BEGIN:VCALENDAR
VERSION:2.0
METHOD:PUBLISH
BEGIN:VEVENT
DTSTART:20231128T164500
DTEND:20231130T201500
LOCATION:online   
TRANSP: OPAQUE
SEQUENCE:0
UID:
DTSTAMP:20260420T112444Z
SUMMARY:Rozliczenia finansowo-księgowe w małej firmie
DESCRIPTION:Poznań Biznes Partner oraz PC Paul Paweł Szymkowiak zapraszają na bezpłatne online szkolenie pt. "Rozliczenia finansowo-księgowe w małej firmie".Program szkolenia:1. Wprowadzenie - definicja......
URL:https://app.evenea.pl/event/rozliczeniafinansowoksiegowe/
PRIORITY:1
CLASS:PUBLIC
END:VEVENT
END:VCALENDAR
