BEGIN:VCALENDAR
VERSION:2.0
METHOD:PUBLISH
BEGIN:VEVENT
DTSTART:20240508T150000
DTEND:20240914T150000
LOCATION:Ogród Społeczny Wesoła Ul. Kopernika 19 A  Kraków
TRANSP: OPAQUE
SEQUENCE:0
UID:
DTSTAMP:20260423T020828Z
SUMMARY:Rozzieleńmy się! | Greening the blues! | Зеленімо!
DESCRIPTION:PL Przyjdź na cykl warsztatów, podczas których stworzymy razem ogród!5 warsztatów, które pozwolą Ci przejść przez cały proces uprawy. Na cykl spotkań składają się tematy: Pomóż nam......
URL:https://app.evenea.pl/event/rozzielenmy-sie/
PRIORITY:1
CLASS:PUBLIC
END:VEVENT
END:VCALENDAR
