BEGIN:VCALENDAR
VERSION:2.0
METHOD:PUBLISH
BEGIN:VEVENT
DTSTART:20211017T173000
DTEND:20211017T220000
LOCATION:Ambasada Kreatywności Świętokrzyska 4  32-540 Chrzanów
TRANSP: OPAQUE
SEQUENCE:0
UID:
DTSTAMP:20260421T113257Z
SUMMARY:Ambasada Przygód - Wieczór RPG w Chrzanowie - 17 października
DESCRIPTION:Planujemy kolejną sesję RPG w Chrzanowie. Spotykamy się tym razem w niedzielę 17 października o godzinie 17:30 aby ponownie wejść do niezwykłego świata magii, elfów i smoków. Nasza sesja......
URL:https://app.evenea.pl/event/rpg-w-chrzanowie-pazdziernik/
PRIORITY:1
CLASS:PUBLIC
END:VEVENT
END:VCALENDAR
