BEGIN:VCALENDAR
VERSION:2.0
METHOD:PUBLISH
BEGIN:VEVENT
DTSTART:20190712T070000
DTEND:20190712T070000
LOCATION:Amfiteatr Sportowa 1  Pleszew
TRANSP: OPAQUE
SEQUENCE:0
UID:
DTSTAMP:20260420T160021Z
SUMMARY:RED SMOKE FESTIVAL 2019 | 12-14.07
DESCRIPTION:RED SMOKE 2019 Pleszew. 12-14.07First stoner/heavy/retro/doom/psychedelic Open Air Festival in......
URL:https://app.evenea.pl/event/rsf2019/
PRIORITY:1
CLASS:PUBLIC
END:VEVENT
END:VCALENDAR
