BEGIN:VCALENDAR
VERSION:2.0
METHOD:PUBLISH
BEGIN:VEVENT
DTSTART:20241207T100000
DTEND:20241207T160000
LOCATION:Urząd Dzielnicy Ursynów al. Komisji Edukacji Narodowej 61,  Warszawa
TRANSP: OPAQUE
SEQUENCE:0
UID:
DTSTAMP:20260419T171955Z
SUMMARY:"Ruszaj Bezpiecznie na Ursynowie": Pierwsza Pomoc dla Aktywnych Mieszkańców szkolenie praktyczne III
DESCRIPTION:Ruszaj Bezpiecznie na Ursynowie!Zapraszamy na wyjątkowy program "Ruszaj Bezpiecznie na Ursynowie" - pierwsza pomoc dla aktywnych mieszkańców! Czy wiesz, jak skutecznie udzielić pierwszej pomocy......
URL:https://app.evenea.pl/event/ruszaj-bezpiecznie-szkolenie-3/
PRIORITY:1
CLASS:PUBLIC
END:VEVENT
END:VCALENDAR
