BEGIN:VCALENDAR
VERSION:2.0
METHOD:PUBLISH
BEGIN:VEVENT
DTSTART:20211016T093000
DTEND:20211016T093000
LOCATION:   
TRANSP: OPAQUE
SEQUENCE:0
UID:
DTSTAMP:20260423T203254Z
SUMMARY:Bieg Charytatywny "Ruszamy z Kopyta!"
DESCRIPTION:Nasi wspaniali Mikołajowie i Mikołajki mamy okazję, by znowu się zjednoczyć. W ubiegłym roku nie mogliśmy biegać w szczytnym celu dlatego teraz czeka nas wyjątkowa okazja i wyjątkowe......
URL:https://app.evenea.pl/event/ruszamyzkopyta/
PRIORITY:1
CLASS:PUBLIC
END:VEVENT
END:VCALENDAR
