BEGIN:VCALENDAR
VERSION:2.0
METHOD:PUBLISH
BEGIN:VEVENT
DTSTART:20240416T180000
DTEND:20240416T190000
LOCATION:Centrum Edukacji i Wsparcia os. Górali 24  Kraków
TRANSP: OPAQUE
SEQUENCE:0
UID:
DTSTAMP:20260423T050147Z
SUMMARY:Rusz ciało | Move your body | Привести тіло в рух
DESCRIPTION:Grupa wiekowa: dla wszystkich Język prowadzenia: polskiPL | Proste ćwiczenia fizyczne na rozruszanie ciała.Prowadzenie: Małgorzata Miksztal - wieloletnia instruktorka fitness.ENG | Simple......
URL:https://app.evenea.pl/event/ruszcialo1604/
PRIORITY:1
CLASS:PUBLIC
END:VEVENT
END:VCALENDAR
