BEGIN:VCALENDAR
VERSION:2.0
METHOD:PUBLISH
BEGIN:VEVENT
DTSTART:20191123T160000
DTEND:20191123T160000
LOCATION:Fantasy Dance Academy Strzelców Kaniowskich 61/63  Łódź
TRANSP: OPAQUE
SEQUENCE:0
UID:
DTSTAMP:20260423T175357Z
SUMMARY:Reggaeton vs Dancehall Academy: Łódź
DESCRIPTION:★★★ REGGAETON VS DANCEHALL ACADEMY ★★★ ROZKŁAD ZAJĘĆ 16.00 - 18.00 Zumba Fitness / Kasia Królak, Kj Śmiechowicz i Goście 18:️00 - 20:00 Reggaeton / Eduardo Luis......
URL:https://app.evenea.pl/event/rvdacademylodz8/
PRIORITY:1
CLASS:PUBLIC
END:VEVENT
END:VCALENDAR
