BEGIN:VCALENDAR
VERSION:2.0
METHOD:PUBLISH
BEGIN:VEVENT
DTSTART:20200209T110000
DTEND:20200209T130000
LOCATION:Barbakan Nowomiejska 15/17  Warszawa
TRANSP: OPAQUE
SEQUENCE:0
UID:
DTSTAMP:20260424T174454Z
SUMMARY:09.02.2020 - 11:00 - Gdzie Syrenka plącze sieci. Spacer po Rybakach. [Spacer]
DESCRIPTION:Zdawać by się mogło, że warszawscy rybacy życie mieli słodkie. W dzień łowili ryby a jedynym problemem była Syrenka plącząca sieci, wieczorem musieli nawoływać dzieci "Wars! Sawa! Do......
URL:https://app.evenea.pl/event/rybaki/
PRIORITY:1
CLASS:PUBLIC
END:VEVENT
END:VCALENDAR
