BEGIN:VCALENDAR
VERSION:2.0
METHOD:PUBLISH
BEGIN:VEVENT
DTSTART:20241121T090000
DTEND:20241121T210000
LOCATION:   Rybnik
TRANSP: OPAQUE
SEQUENCE:0
UID:
DTSTAMP:20260420T234839Z
SUMMARY:Rybnik dla biznesu vol.6
DESCRIPTION:21 listopada 2024 roku Rybnik po raz kolejny stanie się centrum przedsiębiorczości. To właśnie tego dnia odbędzie się największe w regionie wydarzenie biznesowe "Rybnik dla Biznesu". To......
URL:https://app.evenea.pl/event/rybnikdlabiznesuvol6/
PRIORITY:1
CLASS:PUBLIC
END:VEVENT
END:VCALENDAR
