BEGIN:VCALENDAR
VERSION:2.0
METHOD:PUBLISH
BEGIN:VEVENT
DTSTART:20251106T100000
DTEND:20251106T210000
LOCATION:   Rybnik
TRANSP: OPAQUE
SEQUENCE:0
UID:
DTSTAMP:20260421T135403Z
SUMMARY:Konferencja Rybnik dla biznesu vol.7
DESCRIPTION:Świat wokół nas zmienia się szybciej niż kiedykolwiek - nowe technologie, sztuczna inteligencja, wyzwania cyfrowe i społeczne wymagają od przedsiębiorców elastyczności, odwagi i......
URL:https://app.evenea.pl/event/rybnikdlabiznesuvol7/
PRIORITY:1
CLASS:PUBLIC
END:VEVENT
END:VCALENDAR
