BEGIN:VCALENDAR
VERSION:2.0
METHOD:PUBLISH
BEGIN:VEVENT
DTSTART:20240422T120000
DTEND:20240422T150000
LOCATION:Centrum Edukacji i Wsparcia os. Górali 24  Kraków
TRANSP: OPAQUE
SEQUENCE:0
UID:
DTSTAMP:20260423T045750Z
SUMMARY:ABC poruszania się na rynku pracy w Polsce | The ABCs of Navigating the Job Market in Poland | Азбука навігації на ринку праці в Польщі
DESCRIPTION:DLA KOGO: 18+JĘZYK PROWADZENIA: PolskiPLZapraszamy Cię na warsztaty pod tytułem "ABC poruszania się na rynku pracy w Polsce". To spotkanie zapewni Ci niezbędną wiedzę i umiejętności......
URL:https://app.evenea.pl/event/rynekpracywpolsce/
PRIORITY:1
CLASS:PUBLIC
END:VEVENT
END:VCALENDAR
