BEGIN:VCALENDAR
VERSION:2.0
METHOD:PUBLISH
BEGIN:VEVENT
DTSTART:20240419T173000
DTEND:20240419T183000
LOCATION:Miejsce Otwarte. Centrum Integracji Międzykulturowej. Kraków os. Górali 24  Kraków
TRANSP: OPAQUE
SEQUENCE:0
UID:
DTSTAMP:20260423T045405Z
SUMMARY:Nauka rysowania z Tetianą (12+) | Learning to draw with Tetyana (12+) | Вчимося малювати з Тетяною (12+)
DESCRIPTION:Grupa wiekowa: 12+Język prowadzenia: ukraiński, polskiLekcje rysunku i malarstwa dla wszystkich, którzy chcą rysować 12+Jeśli potrafisz rysować - rozwiniesz swoje umiejętnościJeśli chcesz......
URL:https://app.evenea.pl/event/rysowanie1904/
PRIORITY:1
CLASS:PUBLIC
END:VEVENT
END:VCALENDAR
