BEGIN:VCALENDAR
VERSION:2.0
METHOD:PUBLISH
BEGIN:VEVENT
DTSTART:20240621T170000
DTEND:20240621T190000
LOCATION:Miejsce Otwarte. Centrum Integracji Międzykulturowej. Kraków os. Górali 24  Kraków
TRANSP: OPAQUE
SEQUENCE:0
UID:
DTSTAMP:20260424T010711Z
SUMMARY:Nauka rysowania z Tetianą | Learning to draw with Tetyana | Вчимося малювати з Тетяною
DESCRIPTION:Grupa wiekowa: dzieci i młodzieżJęzyk prowadzenia: ukraiński🌟 Zapraszamy na wyjątkowe warsztaty artystyczne! 🌟W dniach 20 i 21 czerwca zapraszamy dzieci i młodzież, aby razem z......
URL:https://app.evenea.pl/event/rysowanie2106/
PRIORITY:1
CLASS:PUBLIC
END:VEVENT
END:VCALENDAR
