BEGIN:VCALENDAR
VERSION:2.0
METHOD:PUBLISH
BEGIN:VEVENT
DTSTART:20240926T170000
DTEND:20240926T190000
LOCATION:Miejsce Otwarte. Centrum Integracji Międzykulturowej. Kraków os. Górali 24  Kraków
TRANSP: OPAQUE
SEQUENCE:0
UID:
DTSTAMP:20260423T073701Z
SUMMARY:Nauka rysowania z Tetianą (10+) | Learning to draw with Tetyana (10+) | Вчимося малювати з Тетяною (10+)
DESCRIPTION:Grupa wiekowa: 10+Język prowadzenia: ukraiński, polskiLekcje rysunku i malarstwa dla wszystkich, którzy chcą rysować 10+Jeśli potrafisz rysować - rozwiniesz swoje umiejętnościJeśli chcesz......
URL:https://app.evenea.pl/event/rysowanie2609/
PRIORITY:1
CLASS:PUBLIC
END:VEVENT
END:VCALENDAR
