BEGIN:VCALENDAR
VERSION:2.0
METHOD:PUBLISH
BEGIN:VEVENT
DTSTART:20260320T173000
DTEND:20260424T193000
LOCATION:Miejsce Aktywności Lokalnej Szerokie Możliwości ul. Nałęczowska 175  Lublin
TRANSP: OPAQUE
SEQUENCE:0
UID:
DTSTAMP:20260419T173454Z
SUMMARY:Kurs rysunku portretowego - zapisy na cały cykl
DESCRIPTION:Zapraszamy na cykl warsztatów poświęconych rysunkowi portretowemu. Podczas pięciu spotkań uczestnicy poznają podstawy konstrukcji twarzy, proporcji, światłocienia oraz różne techniki......
URL:https://app.evenea.pl/event/rysunekportretowy/
PRIORITY:1
CLASS:PUBLIC
END:VEVENT
END:VCALENDAR
