BEGIN:VCALENDAR
VERSION:2.0
METHOD:PUBLISH
BEGIN:VEVENT
DTSTART:20260328T140000
DTEND:20260328T140000
LOCATION: Plac Praw Kobiet  Bydgoszcz
TRANSP: OPAQUE
SEQUENCE:0
UID:
DTSTAMP:20260422T145655Z
SUMMARY:Rzemieślnicy #1: Pracownia Sitko - 28 marca
DESCRIPTION:Serdecznie zapraszam na pierwszą odsłonę cyklu Rzemieślnicy!To wydarzenie, które łączy dwa światy: historię i teraźniejszość,. Najpierw wyruszymy w miasto, by odkryć ślady dawnych......
URL:https://app.evenea.pl/event/rzemieslnicy/
PRIORITY:1
CLASS:PUBLIC
END:VEVENT
END:VCALENDAR
