BEGIN:VCALENDAR
VERSION:2.0
METHOD:PUBLISH
BEGIN:VEVENT
DTSTART:20251216T180000
DTEND:20251216T180000
LOCATION:Hotel Prezydencki ul. Podwisłocze 48  35-309 Rzeszów
TRANSP: OPAQUE
SEQUENCE:0
UID:
DTSTAMP:20260422T044344Z
SUMMARY:Wieczór Biznesowy PTG Rzeszów
DESCRIPTION:"Polski biznes zaczyna grać zespołowo — pytanie, czy będziesz częścią tej drużyny..." Jedno Spotkanie, które może dać Ci więcej kontaktów, niż cały rok przypadkowych......
URL:https://app.evenea.pl/event/rzeszow16122025/
PRIORITY:1
CLASS:PUBLIC
END:VEVENT
END:VCALENDAR
