BEGIN:VCALENDAR
VERSION:2.0
METHOD:PUBLISH
BEGIN:VEVENT
DTSTART:20221006T180000
DTEND:20221006T180000
LOCATION:Hotel Apart ul. Podpromie 12  Rzeszów
TRANSP: OPAQUE
SEQUENCE:0
UID:
DTSTAMP:20260425T183122Z
SUMMARY:Kolacja Biznesowa PTG w Rzeszowie
DESCRIPTION:Zainspiruj się jak można osiągnąć sukces prowadząc biznes \n\nna Podkarpaciu i wspierać swój region\n\n\n\n\n\n		\n\nKim jest nasz Prelegent?\n\n	\n\n	\n\n\n\n	\n\nRafał KaliszPrezes......
URL:https://app.evenea.pl/event/rzeszow290922/
PRIORITY:1
CLASS:PUBLIC
END:VEVENT
END:VCALENDAR
