BEGIN:VCALENDAR
VERSION:2.0
METHOD:PUBLISH
BEGIN:VEVENT
DTSTART:20210414T110000
DTEND:20211130T110000
LOCATION:   
TRANSP: OPAQUE
SEQUENCE:0
UID:
DTSTAMP:20260425T224131Z
SUMMARY:Rzeszowskie Laboratorium Badań Miejskich
DESCRIPTION:Gmina Miasto Rzeszów we współpracy z Instytutem Nauk Socjologicznych Uniwersytetu Rzeszowskiego zaprasza do udziału w eksperckich spotkaniach w ramach Rzeszowskiego Laboratorium Badań......
URL:https://app.evenea.pl/event/rzeszowbadania/
PRIORITY:1
CLASS:PUBLIC
END:VEVENT
END:VCALENDAR
