BEGIN:VCALENDAR
VERSION:2.0
METHOD:PUBLISH
BEGIN:VEVENT
DTSTART:20191005T200000
DTEND:20191027T180000
LOCATION:Wydział Muzyki UR / Kościół pw. św. Jacka Dąbrowskiego 83 / Dominikańska 15  Rzeszów
TRANSP: OPAQUE
SEQUENCE:0
UID:
DTSTAMP:20260424T105239Z
SUMMARY:III Rzeszowska Jesień Muzyczna
DESCRIPTION:III Rzeszowska Jesień Muzyczna5 października 2019, sobotaKoncert inauguracyjny: Orkiestra kameralna Extra Sounds Ensemble, Alicja Śmietana, Maria Sławek (skrzypce).W programie: J.S. Bach, A.......
URL:https://app.evenea.pl/event/rzeszowskajesien/
PRIORITY:1
CLASS:PUBLIC
END:VEVENT
END:VCALENDAR
