BEGIN:VCALENDAR
VERSION:2.0
METHOD:PUBLISH
BEGIN:VEVENT
DTSTART:20240424T173000
DTEND:20240424T183000
LOCATION:Miejsce Otwarte. Centrum Integracji Międzykulturowej. Kraków os. Górali 24  Kraków
TRANSP: OPAQUE
SEQUENCE:0
UID:
DTSTAMP:20260423T045817Z
SUMMARY:Samoobrona dla dzieci (8-12 lat) | Self-defense for children (8-12 years) | Самооборона для дітей (8-12 років)
DESCRIPTION:Grupa wiekowa: 8-12 lat Język prowadzenia: ukraińskiPL: Samoobrona dla dzieci z wykorzystaniem technik mieszanych sztuk walki (8-12 lat)Zapraszamy dzieci w wieku od 8 do 12 lat na bezpłatne......
URL:https://app.evenea.pl/event/samoobrona2404/
PRIORITY:1
CLASS:PUBLIC
END:VEVENT
END:VCALENDAR
