BEGIN:VCALENDAR
VERSION:2.0
METHOD:PUBLISH
BEGIN:VEVENT
DTSTART:20240924T160000
DTEND:20240924T170000
LOCATION:Miejsce Otwarte. Centrum Integracji Międzykulturowej. Kraków os. Górali 24  Kraków
TRANSP: OPAQUE
SEQUENCE:0
UID:
DTSTAMP:20260423T052208Z
SUMMARY:Samoobrona dla dzieci (6-8 lat) | Self-defense for children (6-8 years) | Самооборона для дітей (6-8 років)
DESCRIPTION:Grupa wiekowa: 6-8 lat Język prowadzenia: ukraińskiPL: Samoobrona dla dzieci z wykorzystaniem technik mieszanych sztuk walki (6-8 lat)Zapraszamy dzieci w wieku od 6 do 8 lat na bezpłatne......
URL:https://app.evenea.pl/event/samoobrona62409/
PRIORITY:1
CLASS:PUBLIC
END:VEVENT
END:VCALENDAR
