BEGIN:VCALENDAR
VERSION:2.0
METHOD:PUBLISH
BEGIN:VEVENT
DTSTART:20240924T170000
DTEND:20240924T180000
LOCATION:Miejsce Otwarte. Centrum Integracji Międzykulturowej. Kraków os. Górali 24  Kraków
TRANSP: OPAQUE
SEQUENCE:0
UID:
DTSTAMP:20260423T052201Z
SUMMARY:Samoobrona dla dzieci (9-13 lat) | Self-defense for children (9-13 years) | Самооборона для дітей (9-13 років)
DESCRIPTION:Grupa wiekowa: 9-13 lat Język prowadzenia: ukraińskiPL: Samoobrona dla dzieci z wykorzystaniem technik mieszanych sztuk walki (9-13 lat)Zapraszamy dzieci w wieku od 9 do 13 lat na bezpłatne......
URL:https://app.evenea.pl/event/samoobrona92409/
PRIORITY:1
CLASS:PUBLIC
END:VEVENT
END:VCALENDAR
