BEGIN:VCALENDAR
VERSION:2.0
METHOD:PUBLISH
BEGIN:VEVENT
DTSTART:20240522T090000
DTEND:20240522T090000
LOCATION:Courtyard by Marriott Szczecin City Brama Portowa II  Szczecin
TRANSP: OPAQUE
SEQUENCE:0
UID:
DTSTAMP:20260425T025139Z
SUMMARY:SZCZECIN BIZNES & HR
DESCRIPTION:\n\n	Konferencja Szczecin Biznes &amp; HR to coś więcej niż branżowy event. To rozwój, innowacje, społeczność i dążenie do bardziej świadomego biznesu, a co za tym idzie - lepszego......
URL:https://app.evenea.pl/event/sbhr2024/
PRIORITY:1
CLASS:PUBLIC
END:VEVENT
END:VCALENDAR
