BEGIN:VCALENDAR
VERSION:2.0
METHOD:PUBLISH
BEGIN:VEVENT
DTSTART:20210609T100000
DTEND:20210609T150000
LOCATION:   
TRANSP: OPAQUE
SEQUENCE:0
UID:
DTSTAMP:20260424T043756Z
SUMMARY:Środkowopomorski Business Mixer II edycja - giełdy kooperacyjnej
DESCRIPTION:Środkowopomorski Business Mixer II edycja to giełda kooperacyjna online skierowana jest do przedstawicieli firm otwartych na nowe kontakty biznesowe. Do udziału w wydarzeniu zapraszamy zarówno......
URL:https://app.evenea.pl/event/sbm2/
PRIORITY:1
CLASS:PUBLIC
END:VEVENT
END:VCALENDAR
