BEGIN:VCALENDAR
VERSION:2.0
METHOD:PUBLISH
BEGIN:VEVENT
DTSTART:20200515T090000
DTEND:20200515T090000
LOCATION:   
TRANSP: OPAQUE
SEQUENCE:0
UID:
DTSTAMP:20260423T140111Z
SUMMARY:Scalar online 2020
DESCRIPTION:Scalar Online - a digital networking experience2020 is the year of the first digital Scalar conference. We are aiming to create an online experience that will let all of us meet, learn and......
URL:https://app.evenea.pl/event/scalaronline2020/
PRIORITY:1
CLASS:PUBLIC
END:VEVENT
END:VCALENDAR
