BEGIN:VCALENDAR
VERSION:2.0
METHOD:PUBLISH
BEGIN:VEVENT
DTSTART:20250526T103000
DTEND:20250526T163000
LOCATION:Gdański Park Naukowo-Technologiczny. Sala AB (budynek C) ul. Trzy Lipy 3  80-172 Gdańsk
TRANSP: OPAQUE
SEQUENCE:0
UID:
DTSTAMP:20260423T225449Z
SUMMARY:SPACE.CONNECT.MeetUP Gdańsk
DESCRIPTION:Europejska Agencja Kosmiczna wraz z Brokerami ESA w Polsce zapraszają na wydarzenie łączące sektor kosmiczny z pozostałymi branżami. Już 26 maja 2025 w Gdański zorganizowane zostanie......
URL:https://app.evenea.pl/event/scgda/
PRIORITY:1
CLASS:PUBLIC
END:VEVENT
END:VCALENDAR
