BEGIN:VCALENDAR
VERSION:2.0
METHOD:PUBLISH
BEGIN:VEVENT
DTSTART:20251006T010000
DTEND:20251106T230000
LOCATION:Centrum Nauki Experyment Aleja Zwycięstwa 96/98  Gdynia
TRANSP: OPAQUE
SEQUENCE:0
UID:
DTSTAMP:20260422T164235Z
SUMMARY:ScienceCom 2025 - Festiwal Nauki
DESCRIPTION:Festiwal Kół Naukowych w ramach wydarzenia Science Com.Festiwal odbędzie się w dniach 27-28 listopada 2025 w godzinach 9:00-14:00Zgłoszenia będą przyjmowane od 6 października do 31......
URL:https://app.evenea.pl/event/sciencecom25festiwalnauki/
PRIORITY:1
CLASS:PUBLIC
END:VEVENT
END:VCALENDAR
