BEGIN:VCALENDAR
VERSION:2.0
METHOD:PUBLISH
BEGIN:VEVENT
DTSTART:20200629T150000
DTEND:20200629T150000
LOCATION:online   
TRANSP: OPAQUE
SEQUENCE:0
UID:
DTSTAMP:20260423T182448Z
SUMMARY:The 2nd European Metropolitan Webinar
DESCRIPTION:Metropolitan talks: Key elements to face the recovery after COVID-19Defining common problems, universalizing differencesNext Generation EU Funds vs. Metropolitan NeedsMain ObjectivesThe impact of......
URL:https://app.evenea.pl/event/secondeuropeanmetropolitanwebinar/
PRIORITY:1
CLASS:PUBLIC
END:VEVENT
END:VCALENDAR
