BEGIN:VCALENDAR
VERSION:2.0
METHOD:PUBLISH
BEGIN:VEVENT
DTSTART:20260512T173000
DTEND:20260512T220000
LOCATION:Rotunda PKO Marszałkowska 100/102  Warszawa
TRANSP: OPAQUE
SEQUENCE:0
UID:
DTSTAMP:20260423T191518Z
SUMMARY:SecureWay #10 - AI vs CyberSec
DESCRIPTION:SecureWay Meetup #10 - AI vs CyberSecAI wchodzi w cyberbezpieczeństwo na pełnej prędkości - jedna strona dopiero buduje zasady i dyskutuje o bezpieczeństwie AI, druga od dawna wykorzystuje je......
URL:https://app.evenea.pl/event/secureway/
PRIORITY:1
CLASS:PUBLIC
END:VEVENT
END:VCALENDAR
