BEGIN:VCALENDAR
VERSION:2.0
METHOD:PUBLISH
BEGIN:VEVENT
DTSTART:20230316T180000
DTEND:20230316T200000
LOCATION:Centrum Historii Zajezdnia ul. Grabiszyńska 184  Wrocław
TRANSP: OPAQUE
SEQUENCE:0
UID:
DTSTAMP:20260423T192157Z
SUMMARY:Dlaczego projekty nie idą w Waszej firmie tak, jak powinny?
DESCRIPTION:Dlaczego projekty nie idą w Waszej firmie tak, jak powinny?\n\n\n\n	Kilkanaście lat doświadczenia w zarządzaniu projektami i kilka kolejnych w konsultingu sprowadzone do pięciu kluczowych......
URL:https://app.evenea.pl/event/seminarium-dgr-ipma-dlaczego-projekty-nie-ida-w-waszej-firmie/
PRIORITY:1
CLASS:PUBLIC
END:VEVENT
END:VCALENDAR
