BEGIN:VCALENDAR
VERSION:2.0
METHOD:PUBLISH
BEGIN:VEVENT
DTSTART:20210319T120000
DTEND:20210319T162000
LOCATION:online   
TRANSP: OPAQUE
SEQUENCE:0
UID:
DTSTAMP:20260423T025254Z
SUMMARY:semKRK#16 online
DESCRIPTION:16. edycja semKRK odbędzie się w piątek 19.03.2021 r. w wersji online. Jeśli interesują Cię nowinki ze świata SEM i SEO - musisz być z nami!Wydarzenie na FB: facebook.com/eventsAgenda oraz......
URL:https://app.evenea.pl/event/semkrk16/
PRIORITY:1
CLASS:PUBLIC
END:VEVENT
END:VCALENDAR
