BEGIN:VCALENDAR
VERSION:2.0
METHOD:PUBLISH
BEGIN:VEVENT
DTSTART:20220615T120000
DTEND:20220615T120000
LOCATION:Stara Zajezdnia Kraków by DeSilva Świętego Wawrzyńca 12  Kraków
TRANSP: OPAQUE
SEQUENCE:0
UID:
DTSTAMP:20260422T000835Z
SUMMARY:semKRK#19 BIG
DESCRIPTION:Wracamy po raz 19! Nasz barcamp zawita ponownie do Starej Zajezdni w Krakowie już 15.06.2022. Towarzyszyć nam będzie 12 ekspertów z branży SEO i SEM. Rozpocznij czerwcowy długi weekend z......
URL:https://app.evenea.pl/event/semkrk19/
PRIORITY:1
CLASS:PUBLIC
END:VEVENT
END:VCALENDAR
