BEGIN:VCALENDAR
VERSION:2.0
METHOD:PUBLISH
BEGIN:VEVENT
DTSTART:20250124T190000
DTEND:20250126T200000
LOCATION:Centrum Konferencyjno-szkoleniowe "Nowe Horyzonty" Bobrowiecka 9  Warszawa
TRANSP: OPAQUE
SEQUENCE:0
UID:
DTSTAMP:20260421T114331Z
SUMMARY:Serpiente 7 - Festiwal Świadomości i Pracy z Ciałem
DESCRIPTION:SAVE THE DATE I ponownie zapraszamy Was serdecznie do udziału w Serpiente 7 i już bardzo cieszymy się na współpracę z kolejnymi wspaniałym Prelegentami, Wolontariuszami i WystawcamiA w tym......
URL:https://app.evenea.pl/event/serpiente-7/
PRIORITY:1
CLASS:PUBLIC
END:VEVENT
END:VCALENDAR
