BEGIN:VCALENDAR
VERSION:2.0
METHOD:PUBLISH
BEGIN:VEVENT
DTSTART:20220704T160000
DTEND:20220709T120000
LOCATION:Rise of the Sun wioska indiańska Janiszów Janiszów 1A, 58-400  Kamienna Góra
TRANSP: OPAQUE
SEQUENCE:0
UID:
DTSTAMP:20260421T133407Z
SUMMARY:Summer Forest Camp 2022
DESCRIPTION:Kilka dni niezapomnianej przygody w naturze, z noclegami w indiańskich tipi, z wędrówkami, podczas których poznamy tajniki terenoznawstwa oraz elementy survivalu. Wszystko to na granicy......
URL:https://app.evenea.pl/event/sfc2022/
PRIORITY:1
CLASS:PUBLIC
END:VEVENT
END:VCALENDAR
