BEGIN:VCALENDAR
VERSION:2.0
METHOD:PUBLISH
BEGIN:VEVENT
DTSTART:20250429T103000
DTEND:20250429T160000
LOCATION:Warsaw Financial Center ul. Emilii Plater 53  Warszawa
TRANSP: OPAQUE
SEQUENCE:0
UID:
DTSTAMP:20260423T153104Z
SUMMARY:SForce Day 2025
DESCRIPTION:Join the SForce Day 2025 conferenceThe second edition SForce Day 2025 launches on April 29, 2025, Warsaw Financial Centerat ul. Emilii Plater 53 (on the 23rd floor) in the center of Warsaw. It is......
URL:https://app.evenea.pl/event/sforceday2025/
PRIORITY:1
CLASS:PUBLIC
END:VEVENT
END:VCALENDAR
