BEGIN:VCALENDAR
VERSION:2.0
METHOD:PUBLISH
BEGIN:VEVENT
DTSTART:20210120T183000
DTEND:20210120T183000
LOCATION:Online Online  Online
TRANSP: OPAQUE
SEQUENCE:0
UID:
DTSTAMP:20260426T024013Z
SUMMARY:SForce - Online Salesforce Meetup #11
DESCRIPTION:⏱ Data: 20 stycznia 2021 roku, godz. 18:30🔵 Miejsce: Internet (każda osoba, która zarejestruj się na wydarzenie otrzyma link do transmisji o godzinie 15:00 w dniu 20.01.2021).Zapraszamy na......
URL:https://app.evenea.pl/event/sforceonline11/
PRIORITY:1
CLASS:PUBLIC
END:VEVENT
END:VCALENDAR
