BEGIN:VCALENDAR
VERSION:2.0
METHOD:PUBLISH
BEGIN:VEVENT
DTSTART:20210420T092000
DTEND:20210422T163000
LOCATION:Online Online  Online
TRANSP: OPAQUE
SEQUENCE:0
UID:
DTSTAMP:20260421T145530Z
SUMMARY:SForce Summit 2021 (online) - Polska konferencja o Salesforce
DESCRIPTION:SForce Summit 2021 (online) to największa polska konferencja poświęcona Salesforce. W tym roku konferencja odbywa się w dniach 20-22.04.2021 roku w formie transmisji online. Skierowana jest do......
URL:https://app.evenea.pl/event/sforcesummit/
PRIORITY:1
CLASS:PUBLIC
END:VEVENT
END:VCALENDAR
