BEGIN:VCALENDAR
VERSION:2.0
METHOD:PUBLISH
BEGIN:VEVENT
DTSTART:20260401T093000
DTEND:20260401T153000
LOCATION:Olivia Centre | Olivia Sky Club al. Grunwaldzka 472c  80-309 Gdańsk
TRANSP: OPAQUE
SEQUENCE:0
UID:
DTSTAMP:20260423T024855Z
SUMMARY:Dzień Otwarty SGH × Thinking Zone × Thinking InBusiness
DESCRIPTION:|MODELE — DECYZJE — PRZYSZŁOŚĆOlivia Centre | budynek Olivia Tower | sala konferencyjna Olivia Sky Club | al. Grunwaldzka 472, Gdańsk| al. Grunwaldzka 472, GdańskŚroda, 1 kwietnia 2026,......
URL:https://app.evenea.pl/event/sghday2026/
PRIORITY:1
CLASS:PUBLIC
END:VEVENT
END:VCALENDAR
