BEGIN:VCALENDAR
VERSION:2.0
METHOD:PUBLISH
BEGIN:VEVENT
DTSTART:20220924T093000
DTEND:20220924T113000
LOCATION:Miejskie Hale Targowe w Gdyni (podziemia Hali Łukowej), box.320 Wójta Radtkego 36  Gdynia
TRANSP: OPAQUE
SEQUENCE:0
UID:
DTSTAMP:20260419T145853Z
SUMMARY:Święto Hal Targowych w Gdyni// Spacer i warsztat kosmetyczno- ziołowy z "SIANKO"// 24.09
DESCRIPTION:Zapraszamy na spacer i warsztat kosmetyczno- ziołowy z "SIANKO"w ramach wrześniowego Święta Hal Targowych w Gdyni!Start: podziemie pod Halą Płaską - alejka Halo Kultura, box. 320Prowadzenie:......
URL:https://app.evenea.pl/event/sianko/
PRIORITY:1
CLASS:PUBLIC
END:VEVENT
END:VCALENDAR
