BEGIN:VCALENDAR
VERSION:2.0
METHOD:PUBLISH
BEGIN:VEVENT
DTSTART:20240813T170000
DTEND:20240813T200000
LOCATION:Centrum Edukacji i Wsparcia os. Górali 24  Kraków
TRANSP: OPAQUE
SEQUENCE:0
UID:
DTSTAMP:20260423T234552Z
SUMMARY:Siatki na owoce - makrama | Nets for fruits - macramé | Сітки для фруктів - макраме
DESCRIPTION:Grupa wiekowa: 13+Język prowadzenia: polskiPL | Zapoznamy się z techniką makramy i wykonamy wielorazowe, wyplatane siatki na owoce i drobne zakupy. Dodatkowo w planach dyskusja i prelekcja o......
URL:https://app.evenea.pl/event/siatkanaowoce/
PRIORITY:1
CLASS:PUBLIC
END:VEVENT
END:VCALENDAR
