BEGIN:VCALENDAR
VERSION:2.0
METHOD:PUBLISH
BEGIN:VEVENT
DTSTART:20220924T120000
DTEND:20220924T140000
LOCATION:Miejskie Hale Targowe- Hala Łukowa (BOX 15) Wójta Radtkego 36  Gdynia
TRANSP: OPAQUE
SEQUENCE:0
UID:
DTSTAMP:20260419T150107Z
SUMMARY:Święto Hal Targowych w Gdyni// Warsztat "Siatki na owoce i warzywa"/24.09
DESCRIPTION:Zapraszamy na spotkanie z Lilki Szpilki w ramach ekonostalgicznego Święta Hal Targowych w Gdyni!Start: Hala Łukowa- box nr 15Prowadzenie: Agnieszka Nowicka- pracownia Lilki Szpilki, która......
URL:https://app.evenea.pl/event/siatkinaowoceiwarzywa/
PRIORITY:1
CLASS:PUBLIC
END:VEVENT
END:VCALENDAR
