BEGIN:VCALENDAR
VERSION:2.0
METHOD:PUBLISH
BEGIN:VEVENT
DTSTART:20220927T100000
DTEND:20220927T190000
LOCATION:Nadbałtyckie Centrum Kultury Korzenna 33/35  Gdańsk
TRANSP: OPAQUE
SEQUENCE:0
UID:
DTSTAMP:20260421T132524Z
SUMMARY:"Siłaczki, wizjonerki, aktywistki. O współczesnych rzemieślniczkach w działaniu" Spotkania - warsztaty - prezentacje. Dzień II
DESCRIPTION:"Siłaczki, wizjonerki, aktywistki. O współczesnych rzemieślniczkach w działaniu"Spotkania - warsztaty - prezentacje27 września 2022 r. godz. 10-13.30 (z przerwami)Podczas wydarzenia w......
URL:https://app.evenea.pl/event/silaczki2/
PRIORITY:1
CLASS:PUBLIC
END:VEVENT
END:VCALENDAR
