BEGIN:VCALENDAR
VERSION:2.0
METHOD:PUBLISH
BEGIN:VEVENT
DTSTART:20251108T100000
DTEND:20251108T100000
LOCATION:Grupa Simple Gdańska 160  Bydgoszcz
TRANSP: OPAQUE
SEQUENCE:0
UID:
DTSTAMP:20260422T105536Z
SUMMARY:Po prostu Bocianowo - Nieciekawe x Grupa Simple
DESCRIPTION:Surowe, z charakterem i pełne historii - Bocianowo to dzielnica, która doskonale pokazuje przemiany Bydgoszczy. Dawniej robotnicze zaplecze miasta, dziś miejsce, w którym stare kamienice......
URL:https://app.evenea.pl/event/simple-bocianowo/
PRIORITY:1
CLASS:PUBLIC
END:VEVENT
END:VCALENDAR
