BEGIN:VCALENDAR
VERSION:2.0
METHOD:PUBLISH
BEGIN:VEVENT
DTSTART:20230908T213000
DTEND:20230908T213000
LOCATION:Scena Regionalnego Centrum Kultur Pogranicza Kolejowa 1  Krosno
TRANSP: OPAQUE
SEQUENCE:0
UID:
DTSTAMP:20260420T141005Z
SUMMARY:Siódemka, TEATR BADÓW, BADÓW GÓRNY (Nocne Teatralia Strachy)
DESCRIPTION:21:30Siódemka - Teatr Badów im. Piotra Bikonta, Badów Górny /spektakl/miejsce: Scena Regionalnego Centrum Kultur Pogranicza, ul. Kolejowa 1Reżyseria: Piotr BikontAsystent reżysera: Joanna......
URL:https://app.evenea.pl/event/siodemka/
PRIORITY:1
CLASS:PUBLIC
END:VEVENT
END:VCALENDAR
