BEGIN:VCALENDAR
VERSION:2.0
METHOD:PUBLISH
BEGIN:VEVENT
DTSTART:20241122T180000
DTEND:20241122T210000
LOCATION:Hampton by Hilton Aleja Grunwaldzka 507  Gdańsk
TRANSP: OPAQUE
SEQUENCE:0
UID:
DTSTAMP:20260422T035224Z
SUMMARY:Kolacja Andrzejkowo Świąteczna dla Przedsiębiorców
DESCRIPTION:Kolacja Andrzejkowo - Świąteczna dla PrzedsiębiorcówGDZIE?📍 Hampton by Hilton Gdańsk Oliwa Aleja Grunwaldzka 507, GdańskKIEDY?🗓️ 22.11 🕕 18:00Siostry w Biznesie zapraszają Cię na......
URL:https://app.evenea.pl/event/siostrywbiznesie2211/
PRIORITY:1
CLASS:PUBLIC
END:VEVENT
END:VCALENDAR
