BEGIN:VCALENDAR
VERSION:2.0
METHOD:PUBLISH
BEGIN:VEVENT
DTSTART:20250525T120000
DTEND:20250525T133000
LOCATION:https://maps.app.goo.gl/5P6vYL8Le4eQQw2e6 Al. Jana Pawła II  Gdańsk
TRANSP: OPAQUE
SEQUENCE:0
UID:
DTSTAMP:20260419T184146Z
SUMMARY:Slow Jogging - trening otwarty
DESCRIPTION:🌿 Międzynarodowy Dzień Slow Joggingu w Gdańsku - 25 maja 2025 🌿Zapraszamy na wyjątkowe wydarzenie w Gdańsku, które odbędzie się w ramach obchodów VIII Międzynarodowego Dnia Slow......
URL:https://app.evenea.pl/event/sj-2025-05-25/
PRIORITY:1
CLASS:PUBLIC
END:VEVENT
END:VCALENDAR
